BEGIN:VCALENDAR
VERSION:2.0
PRODID:-//jEvents 2.0 for Joomla//EN
CALSCALE:GREGORIAN
METHOD:PUBLISH
BEGIN:VTIMEZONE
TZID:Europe/Berlin
BEGIN:STANDARD
DTSTART:20171029T020000
RDATE:20180325T030000
TZOFFSETFROM:+0200
TZOFFSETTO:+0100
TZNAME:Europe/Berlin CET
END:STANDARD
BEGIN:STANDARD
DTSTART:20181028T020000
RDATE:20190331T030000
TZOFFSETFROM:+0200
TZOFFSETTO:+0100
TZNAME:Europe/Berlin CET
END:STANDARD
BEGIN:STANDARD
DTSTART:20191027T020000
RDATE:20200329T030000
TZOFFSETFROM:+0200
TZOFFSETTO:+0100
TZNAME:Europe/Berlin CET
END:STANDARD
BEGIN:STANDARD
DTSTART:20201025T020000
RDATE:20210328T030000
TZOFFSETFROM:+0200
TZOFFSETTO:+0100
TZNAME:Europe/Berlin CET
END:STANDARD
BEGIN:STANDARD
DTSTART:20211031T020000
RDATE:20220327T030000
TZOFFSETFROM:+0200
TZOFFSETTO:+0100
TZNAME:Europe/Berlin CET
END:STANDARD
BEGIN:STANDARD
DTSTART:20221030T020000
RDATE:20230326T030000
TZOFFSETFROM:+0200
TZOFFSETTO:+0100
TZNAME:Europe/Berlin CET
END:STANDARD
BEGIN:STANDARD
DTSTART:20231029T020000
RDATE:20240331T030000
TZOFFSETFROM:+0200
TZOFFSETTO:+0100
TZNAME:Europe/Berlin CET
END:STANDARD
BEGIN:STANDARD
DTSTART:20241027T020000
RDATE:20250330T030000
TZOFFSETFROM:+0200
TZOFFSETTO:+0100
TZNAME:Europe/Berlin CET
END:STANDARD
BEGIN:STANDARD
DTSTART:20251026T020000
RDATE:20260329T030000
TZOFFSETFROM:+0200
TZOFFSETTO:+0100
TZNAME:Europe/Berlin CET
END:STANDARD
BEGIN:STANDARD
DTSTART:20261025T020000
RDATE:20270328T030000
TZOFFSETFROM:+0200
TZOFFSETTO:+0100
TZNAME:Europe/Berlin CET
END:STANDARD
BEGIN:STANDARD
DTSTART:20271031T020000
RDATE:20280326T030000
TZOFFSETFROM:+0200
TZOFFSETTO:+0100
TZNAME:Europe/Berlin CET
END:STANDARD
BEGIN:STANDARD
DTSTART:20281029T020000
RDATE:20290325T030000
TZOFFSETFROM:+0200
TZOFFSETTO:+0100
TZNAME:Europe/Berlin CET
END:STANDARD
BEGIN:STANDARD
DTSTART:20291028T020000
RDATE:20300331T030000
TZOFFSETFROM:+0200
TZOFFSETTO:+0100
TZNAME:Europe/Berlin CET
END:STANDARD
BEGIN:STANDARD
DTSTART:20301027T020000
RDATE:20310330T030000
TZOFFSETFROM:+0200
TZOFFSETTO:+0100
TZNAME:Europe/Berlin CET
END:STANDARD
BEGIN:STANDARD
DTSTART:20311026T020000
RDATE:20320328T030000
TZOFFSETFROM:+0200
TZOFFSETTO:+0100
TZNAME:Europe/Berlin CET
END:STANDARD
BEGIN:DAYLIGHT
DTSTART:20170802T150000
RDATE:20171029T020000
TZOFFSETFROM:+0100
TZOFFSETTO:+0200
TZNAME:Europe/Berlin CEST
END:DAYLIGHT
BEGIN:DAYLIGHT
DTSTART:20180325T030000
RDATE:20181028T020000
TZOFFSETFROM:+0100
TZOFFSETTO:+0200
TZNAME:Europe/Berlin CEST
END:DAYLIGHT
BEGIN:DAYLIGHT
DTSTART:20190331T030000
RDATE:20191027T020000
TZOFFSETFROM:+0100
TZOFFSETTO:+0200
TZNAME:Europe/Berlin CEST
END:DAYLIGHT
BEGIN:DAYLIGHT
DTSTART:20200329T030000
RDATE:20201025T020000
TZOFFSETFROM:+0100
TZOFFSETTO:+0200
TZNAME:Europe/Berlin CEST
END:DAYLIGHT
BEGIN:DAYLIGHT
DTSTART:20210328T030000
RDATE:20211031T020000
TZOFFSETFROM:+0100
TZOFFSETTO:+0200
TZNAME:Europe/Berlin CEST
END:DAYLIGHT
BEGIN:DAYLIGHT
DTSTART:20220327T030000
RDATE:20221030T020000
TZOFFSETFROM:+0100
TZOFFSETTO:+0200
TZNAME:Europe/Berlin CEST
END:DAYLIGHT
BEGIN:DAYLIGHT
DTSTART:20230326T030000
RDATE:20231029T020000
TZOFFSETFROM:+0100
TZOFFSETTO:+0200
TZNAME:Europe/Berlin CEST
END:DAYLIGHT
BEGIN:DAYLIGHT
DTSTART:20240331T030000
RDATE:20241027T020000
TZOFFSETFROM:+0100
TZOFFSETTO:+0200
TZNAME:Europe/Berlin CEST
END:DAYLIGHT
BEGIN:DAYLIGHT
DTSTART:20250330T030000
RDATE:20251026T020000
TZOFFSETFROM:+0100
TZOFFSETTO:+0200
TZNAME:Europe/Berlin CEST
END:DAYLIGHT
BEGIN:DAYLIGHT
DTSTART:20260329T030000
RDATE:20261025T020000
TZOFFSETFROM:+0100
TZOFFSETTO:+0200
TZNAME:Europe/Berlin CEST
END:DAYLIGHT
BEGIN:DAYLIGHT
DTSTART:20270328T030000
RDATE:20271031T020000
TZOFFSETFROM:+0100
TZOFFSETTO:+0200
TZNAME:Europe/Berlin CEST
END:DAYLIGHT
BEGIN:DAYLIGHT
DTSTART:20280326T030000
RDATE:20281029T020000
TZOFFSETFROM:+0100
TZOFFSETTO:+0200
TZNAME:Europe/Berlin CEST
END:DAYLIGHT
BEGIN:DAYLIGHT
DTSTART:20290325T030000
RDATE:20291028T020000
TZOFFSETFROM:+0100
TZOFFSETTO:+0200
TZNAME:Europe/Berlin CEST
END:DAYLIGHT
BEGIN:DAYLIGHT
DTSTART:20300331T030000
RDATE:20301027T020000
TZOFFSETFROM:+0100
TZOFFSETTO:+0200
TZNAME:Europe/Berlin CEST
END:DAYLIGHT
BEGIN:DAYLIGHT
DTSTART:20310330T030000
RDATE:20311026T020000
TZOFFSETFROM:+0100
TZOFFSETTO:+0200
TZNAME:Europe/Berlin CEST
END:DAYLIGHT
END:VTIMEZONE
BEGIN:VEVENT
UID:b3ff62310acb72dc4f6babd0536ddbc7
CATEGORIES:Termine
CREATED:20180215T185823
SUMMARY:TAGE DER INDUSTRIEKULTUR - DIE STADT DER MÖBEL IN EUROPA 
LOCATION:Museum Kelkheim\, Stadtmitte Kelkheim
DESCRIPTION:Die Stadt der Möbel und ihre kontinentalen Verbindungen\nIn einem Spazierga
 ng vom Museum Kelkheim zum Rathaus berichtet Marianne Bopp wie die STADT DE
 R MÖBEL in der Vergangenheit ihre Möbel in viele Länder der Welt lieferte, 
 welche Parallelen es mit der englischen Partnerstadt High Wycombe gibt und 
 welche internationalen Verflechtungen heute existieren.  \nIm 20. Jahrhunde
 rt exportierte die Stadt Kelkheim ihre Möbelerzeugnisse nach ganz Europa. H
 eute werden hier auch equisite Möbel aus Europa verkauft. Der Spaziergang f
 ührt vom Museum Kelkheim über das Möbelhaus Stelzer hin zu einer Skulpturen
 wiese, die den Partnerstädten gewidmet ist. Er endet im Rathaus. Dort geht 
 es um das ehemalige Zentrum der Stuhl- und Möbelindustrie in England, die P
 artnerstadt High Wycombe. Deren Wappen zeigt den Stolz auf das Erbe: "Indus
 tria ditat" - "Industrie bereichert".\nTreffpunkt ist am 2. August um 15:00
  Uhr das Museum Kelkheim.\nVeranstalter sind die Stadt Kelkheim (Taunus), K
 ulturreferat und der Museumsverein Kelkheim e.V.\nTeilnahme ist frei, jedoc
 h begrenzt auf 20 Personen\nAnmeldungen bei Dorothee Sommer, Tel.: 06174 / 
 9685492, E-Mail: Diese E-Mail-Adresse ist vor Spambots geschützt! Zur Anzei
 ge muss JavaScript eingeschaltet sein. (mailto:fuehrungen.museumkelkheim@we
 b.de,)\n
X-ALT-DESC;FMTTYPE=text/html:<p style="text-align: center;"><span style="color: #993300; font-size: 18pt
 ;"><strong>Die Stadt der Möbel und ihre kontinentalen Verbindungen</strong>
 </span></p><p><strong>In einem Spaziergang vom Museum Kelkheim zum Rathaus 
 berichtet Marianne Bopp wie die STADT DER MÖBEL in der Vergangenheit&nbsp;i
 hre Möbel in viele Länder der&nbsp;Welt lieferte, welche Parallelen es mit 
 der englischen Partnerstadt High Wycombe gibt und welche internationalen&nb
 sp;Verflechtungen heute existieren.&nbsp;</strong>&nbsp;</p><p><strong>Im 2
 0. Jahrhundert exportierte die Stadt Kelkheim ihre Möbelerzeugnisse nach ga
 nz Europa. Heute werden hier auch equisite Möbel aus Europa verkauft. Der S
 paziergang führt vom Museum Kelkheim über das Möbelhaus Stelzer hin zu eine
 r Skulpturenwiese, die den Partnerstädten gewidmet ist. Er endet im Rathaus
 . Dort geht es um das ehemalige Zentrum der Stuhl- und Möbelindustrie in En
 gland, die Partnerstadt High Wycombe. Deren Wappen zeigt den Stolz auf das 
 Erbe: "Industria ditat" - "Industrie bereichert".</strong></p><p><strong>Tr
 effpunkt ist am 2. August um 15:00 Uhr das Museum Kelkheim.</strong></p><p>
 <strong>Veranstalter sind die Stadt Kelkheim (Taunus), Kulturreferat und de
 r Museumsverein Kelkheim e.V.</strong></p><p><strong>Teilnahme ist frei, je
 doch begrenzt auf 20 Personen</strong></p><p><strong>Anmeldungen bei Doroth
 ee Sommer, Tel.: 06174 / 9685492, E-Mail: <a href="mailto:fuehrungen.museum
 kelkheim@web.de,"><joomla-hidden-mail  is-link="1" is-email="1" first="ZnVl
 aHJ1bmdlbi5tdXNldW1rZWxraGVpbQ==" last="d2ViLmRl" text="ZnVlaHJ1bmdlbi5tdXN
 ldW1rZWxraGVpbUB3ZWIuZGU=" base="" >Diese E-Mail-Adresse ist vor Spambots g
 eschützt! Zur Anzeige muss JavaScript eingeschaltet sein.</joomla-hidden-ma
 il></a></strong></p>
DTSTAMP:20260421T082328
DTSTART;TZID=Europe/Berlin:20180803T150000
DTEND;TZID=Europe/Berlin:20180803T173000
SEQUENCE:0
TRANSP:OPAQUE
END:VEVENT
END:VCALENDAR