BEGIN:VCALENDAR
VERSION:2.0
PRODID:-//jEvents 2.0 for Joomla//EN
CALSCALE:GREGORIAN
METHOD:PUBLISH
BEGIN:VTIMEZONE
TZID:Europe/Berlin
BEGIN:STANDARD
DTSTART:20171116T163000
RDATE:20180325T030000
TZOFFSETFROM:+0200
TZOFFSETTO:+0100
TZNAME:Europe/Berlin CET
END:STANDARD
BEGIN:STANDARD
DTSTART:20181028T020000
RDATE:20190331T030000
TZOFFSETFROM:+0200
TZOFFSETTO:+0100
TZNAME:Europe/Berlin CET
END:STANDARD
BEGIN:STANDARD
DTSTART:20191027T020000
RDATE:20200329T030000
TZOFFSETFROM:+0200
TZOFFSETTO:+0100
TZNAME:Europe/Berlin CET
END:STANDARD
BEGIN:STANDARD
DTSTART:20201025T020000
RDATE:20210328T030000
TZOFFSETFROM:+0200
TZOFFSETTO:+0100
TZNAME:Europe/Berlin CET
END:STANDARD
BEGIN:STANDARD
DTSTART:20211031T020000
RDATE:20220327T030000
TZOFFSETFROM:+0200
TZOFFSETTO:+0100
TZNAME:Europe/Berlin CET
END:STANDARD
BEGIN:STANDARD
DTSTART:20221030T020000
RDATE:20230326T030000
TZOFFSETFROM:+0200
TZOFFSETTO:+0100
TZNAME:Europe/Berlin CET
END:STANDARD
BEGIN:STANDARD
DTSTART:20231029T020000
RDATE:20240331T030000
TZOFFSETFROM:+0200
TZOFFSETTO:+0100
TZNAME:Europe/Berlin CET
END:STANDARD
BEGIN:STANDARD
DTSTART:20241027T020000
RDATE:20250330T030000
TZOFFSETFROM:+0200
TZOFFSETTO:+0100
TZNAME:Europe/Berlin CET
END:STANDARD
BEGIN:STANDARD
DTSTART:20251026T020000
RDATE:20260329T030000
TZOFFSETFROM:+0200
TZOFFSETTO:+0100
TZNAME:Europe/Berlin CET
END:STANDARD
BEGIN:STANDARD
DTSTART:20261025T020000
RDATE:20270328T030000
TZOFFSETFROM:+0200
TZOFFSETTO:+0100
TZNAME:Europe/Berlin CET
END:STANDARD
BEGIN:STANDARD
DTSTART:20271031T020000
RDATE:20280326T030000
TZOFFSETFROM:+0200
TZOFFSETTO:+0100
TZNAME:Europe/Berlin CET
END:STANDARD
BEGIN:STANDARD
DTSTART:20281029T020000
RDATE:20290325T030000
TZOFFSETFROM:+0200
TZOFFSETTO:+0100
TZNAME:Europe/Berlin CET
END:STANDARD
BEGIN:STANDARD
DTSTART:20291028T020000
RDATE:20300331T030000
TZOFFSETFROM:+0200
TZOFFSETTO:+0100
TZNAME:Europe/Berlin CET
END:STANDARD
BEGIN:STANDARD
DTSTART:20301027T020000
RDATE:20310330T030000
TZOFFSETFROM:+0200
TZOFFSETTO:+0100
TZNAME:Europe/Berlin CET
END:STANDARD
BEGIN:STANDARD
DTSTART:20311026T020000
RDATE:20320328T030000
TZOFFSETFROM:+0200
TZOFFSETTO:+0100
TZNAME:Europe/Berlin CET
END:STANDARD
BEGIN:DAYLIGHT
DTSTART:20180325T030000
RDATE:20181028T020000
TZOFFSETFROM:+0100
TZOFFSETTO:+0200
TZNAME:Europe/Berlin CEST
END:DAYLIGHT
BEGIN:DAYLIGHT
DTSTART:20190331T030000
RDATE:20191027T020000
TZOFFSETFROM:+0100
TZOFFSETTO:+0200
TZNAME:Europe/Berlin CEST
END:DAYLIGHT
BEGIN:DAYLIGHT
DTSTART:20200329T030000
RDATE:20201025T020000
TZOFFSETFROM:+0100
TZOFFSETTO:+0200
TZNAME:Europe/Berlin CEST
END:DAYLIGHT
BEGIN:DAYLIGHT
DTSTART:20210328T030000
RDATE:20211031T020000
TZOFFSETFROM:+0100
TZOFFSETTO:+0200
TZNAME:Europe/Berlin CEST
END:DAYLIGHT
BEGIN:DAYLIGHT
DTSTART:20220327T030000
RDATE:20221030T020000
TZOFFSETFROM:+0100
TZOFFSETTO:+0200
TZNAME:Europe/Berlin CEST
END:DAYLIGHT
BEGIN:DAYLIGHT
DTSTART:20230326T030000
RDATE:20231029T020000
TZOFFSETFROM:+0100
TZOFFSETTO:+0200
TZNAME:Europe/Berlin CEST
END:DAYLIGHT
BEGIN:DAYLIGHT
DTSTART:20240331T030000
RDATE:20241027T020000
TZOFFSETFROM:+0100
TZOFFSETTO:+0200
TZNAME:Europe/Berlin CEST
END:DAYLIGHT
BEGIN:DAYLIGHT
DTSTART:20250330T030000
RDATE:20251026T020000
TZOFFSETFROM:+0100
TZOFFSETTO:+0200
TZNAME:Europe/Berlin CEST
END:DAYLIGHT
BEGIN:DAYLIGHT
DTSTART:20260329T030000
RDATE:20261025T020000
TZOFFSETFROM:+0100
TZOFFSETTO:+0200
TZNAME:Europe/Berlin CEST
END:DAYLIGHT
BEGIN:DAYLIGHT
DTSTART:20270328T030000
RDATE:20271031T020000
TZOFFSETFROM:+0100
TZOFFSETTO:+0200
TZNAME:Europe/Berlin CEST
END:DAYLIGHT
BEGIN:DAYLIGHT
DTSTART:20280326T030000
RDATE:20281029T020000
TZOFFSETFROM:+0100
TZOFFSETTO:+0200
TZNAME:Europe/Berlin CEST
END:DAYLIGHT
BEGIN:DAYLIGHT
DTSTART:20290325T030000
RDATE:20291028T020000
TZOFFSETFROM:+0100
TZOFFSETTO:+0200
TZNAME:Europe/Berlin CEST
END:DAYLIGHT
BEGIN:DAYLIGHT
DTSTART:20300331T030000
RDATE:20301027T020000
TZOFFSETFROM:+0100
TZOFFSETTO:+0200
TZNAME:Europe/Berlin CEST
END:DAYLIGHT
BEGIN:DAYLIGHT
DTSTART:20310330T030000
RDATE:20311026T020000
TZOFFSETFROM:+0100
TZOFFSETTO:+0200
TZNAME:Europe/Berlin CEST
END:DAYLIGHT
END:VTIMEZONE
BEGIN:VEVENT
UID:16343ad53fe8dd9a4b47de1e054a343a
CATEGORIES:Termine
CREATED:20180121T183923
SUMMARY:Taschenlampenführung zur Geschichte des Rettershofes 
LOCATION:Rettershof
DESCRIPTION:TASCHENLAMPENFÜHRUNG ZUR GESCHICHTE DES RETTERSHOFES\nund anschließender Br
 ezel-Stärkung für Kinder und Erwachsene\nmit der Museumspädagogin Marianne 
 Bopp\nSamstag, 17. November 2018, 16:30 Uhr\nTreffpunkt:  Rettershof, Torbo
 gen am Eingang zum Gutshof\nTeilnahmegebühr:  5 € (inkl. Brezel)\nWegen Tei
 lnehmerbegrenzung wird um Anmeldung unter der Telefonnummer: 06174 / 968549
 2 oder email: Diese E-Mail-Adresse ist vor Spambots geschützt! Zur Anzeige 
 muss JavaScript eingeschaltet sein. gebeten.\nUnter dem Titel KELKHEIM KENN
 ENLERNEN präsentiert die Stadt Kelkheim Erlebnisführungen zur Geschichte un
 serer Stadt und ihrer Ortsteile.\nBei der ca. 1-stündigen Führung mit Tasch
 enlampen soll Kindern ein kultureller Ort näher gebracht werden, der von Fa
 milien außerordentlich frequentiert wird. Den Rettershof kennt in Kelkheim 
 fast jedes Kind, aber nicht jeder weiß, dass er schon seit der Ritterszeit 
 existiert.\nUm die Gebäude und durch die Geschichte gibt es viel zu entdeck
 en. Mit den Taschenlampen können die Bausteine des alten Klosters und eine 
 mittelalterliche Waffe anstrahlen.\nVeranstalter: Magistrat der Stadt Kelkh
 eim (Taunus), Kulturreferat und Museumsverein Kelkheim e.V.\n
X-ALT-DESC;FMTTYPE=text/html:<p style="text-align: center;"><span style="font-size: 12pt; color: #0000ff
 ;"><strong>TASCHENLAMPENFÜHRUNG ZUR GESCHICHTE DES RETTERSHOFES</strong></s
 pan></p><p style="text-align: center;"><strong><span style="font-size: 10pt
 ; color: #0000ff;">und anschließender Brezel-Stärkung für Kinder und Erwach
 sene</span></strong></p><p style="text-align: center;"><span style="font-si
 ze: 12pt;">mit der Museumspädagogin Marianne Bopp</span></p><p style="text-
 align: center;"><strong>Samstag, 17. November 2018, 16:30 Uhr</strong></p><
 p style="text-align: center;">Treffpunkt:&nbsp; Rettershof, Torbogen am Ein
 gang zum Gutshof</p><p style="text-align: center;">Teilnahmegebühr:&nbsp; 5
  € (inkl. Brezel)</p><p>Wegen Teilnehmerbegrenzung wird um Anmeldung unter 
 der Telefonnummer:&nbsp;<em><strong>06174 / 9685492&nbsp;</strong></em>oder
  email:&nbsp;<strong><em><span id="cloakd69e262a36038ea78ad55afb807140f4"><
 joomla-hidden-mail  is-link="1" is-email="1" first="ZnVocnVuZ2VuLm11c2V1bWt
 lbGtoZWlt" last="d2ViLmRl" text="ZnVocnVuZ2VuLm11c2V1bWtlbGtoZWltQHdlYi5kZQ
 ==" base="" >Diese E-Mail-Adresse ist vor Spambots geschützt! Zur Anzeige m
 uss JavaScript eingeschaltet sein.</joomla-hidden-mail></span></em></strong
 >&nbsp;gebeten.</p><p>Unter dem Titel&nbsp;<strong>KELKHEIM KENNENLERNEN</s
 trong>&nbsp;präsentiert die Stadt Kelkheim Erlebnisführungen zur Geschichte
  unserer Stadt und ihrer Ortsteile.</p><p>Bei der ca. 1-stündigen Führung m
 it Taschenlampen soll Kindern ein kultureller Ort näher gebracht werden, de
 r von Familien außerordentlich frequentiert wird. Den Rettershof kennt in K
 elkheim fast jedes Kind, aber nicht jeder weiß, dass er schon seit der Ritt
 erszeit existiert.</p><p>Um die Gebäude und durch die Geschichte gibt es vi
 el zu entdecken. Mit den Taschenlampen können die Bausteine des alten Klost
 ers und eine mittelalterliche Waffe anstrahlen.</p><p>Veranstalter: Magistr
 at der Stadt Kelkheim (Taunus), Kulturreferat und Museumsverein Kelkheim e.
 V.</p>
DTSTAMP:20260421T082657
DTSTART;TZID=Europe/Berlin:20181117T163000
DTEND;TZID=Europe/Berlin:20181117T180000
SEQUENCE:0
TRANSP:OPAQUE
END:VEVENT
END:VCALENDAR